BEGIN:VCALENDAR
VERSION:2.0
PRODID:-//Great and Little Plumstead Parish Council//Meeting Calendar//EN
CALSCALE:GREGORIAN
METHOD:PUBLISH
BEGIN:VEVENT
UID:71814-20260413@greatandlittleplumstead-pc.gov.uk
DTSTAMP:20260419T140332Z
DTSTART;VALUE=DATE:20260413
DTEND;VALUE=DATE:20260414
SUMMARY:Parish Council Meeting &#8211\\; 13th April 2026
DESCRIPTION:Full Council Meeting\nView details: https://greatandlittleplumstead-pc.gov.uk/meetings/parish-council-meeting-13th-april-2026/
URL:https://greatandlittleplumstead-pc.gov.uk/meetings/parish-council-meeting-13th-april-2026/
END:VEVENT
END:VCALENDAR
