BEGIN:VCALENDAR
VERSION:2.0
PRODID:-//Great and Little Plumstead Parish Council//Meeting Calendar//EN
CALSCALE:GREGORIAN
METHOD:PUBLISH
BEGIN:VEVENT
UID:71804-20260309@greatandlittleplumstead-pc.gov.uk
DTSTAMP:20260419T140312Z
DTSTART;VALUE=DATE:20260309
DTEND;VALUE=DATE:20260310
SUMMARY:Parish Meeting &#8211\\; 9th March 2026
DESCRIPTION:Full Council Meeting\nView details: https://greatandlittleplumstead-pc.gov.uk/meetings/parish-meeting-2/
URL:https://greatandlittleplumstead-pc.gov.uk/meetings/parish-meeting-2/
END:VEVENT
END:VCALENDAR
