BEGIN:VCALENDAR
VERSION:2.0
PRODID:-//Great and Little Plumstead Parish Council//Meeting Calendar//EN
CALSCALE:GREGORIAN
METHOD:PUBLISH
BEGIN:VEVENT
UID:71798-20261214@greatandlittleplumstead-pc.gov.uk
DTSTAMP:20260419T151901Z
DTSTART;VALUE=DATE:20261214
DTEND;VALUE=DATE:20261215
SUMMARY:Parish Council Meeting &#8211\\; 14th December 2026
DESCRIPTION:Full Council Meeting\nView details: https://greatandlittleplumstead-pc.gov.uk/meetings/parish-council-meeting-7/
URL:https://greatandlittleplumstead-pc.gov.uk/meetings/parish-council-meeting-7/
END:VEVENT
END:VCALENDAR
