BEGIN:VCALENDAR
VERSION:2.0
PRODID:-//Great and Little Plumstead Parish Council//Meeting Calendar//EN
CALSCALE:GREGORIAN
METHOD:PUBLISH
BEGIN:VEVENT
UID:71797-20261109@greatandlittleplumstead-pc.gov.uk
DTSTAMP:20260419T151901Z
DTSTART;VALUE=DATE:20261109
DTEND;VALUE=DATE:20261110
SUMMARY:Parish Council Meeting &#8211\\; 9th November 2026
DESCRIPTION:Full Council Meeting\nView details: https://greatandlittleplumstead-pc.gov.uk/meetings/parish-council-meeting-6/
URL:https://greatandlittleplumstead-pc.gov.uk/meetings/parish-council-meeting-6/
END:VEVENT
END:VCALENDAR
