BEGIN:VCALENDAR
VERSION:2.0
PRODID:-//Great and Little Plumstead Parish Council//Meeting Calendar//EN
CALSCALE:GREGORIAN
METHOD:PUBLISH
BEGIN:VEVENT
UID:71795-20261012@greatandlittleplumstead-pc.gov.uk
DTSTAMP:20260419T134516Z
DTSTART;VALUE=DATE:20261012
DTEND;VALUE=DATE:20261013
SUMMARY:Parish Council Meeting &#8211\\; 12th October 2026
DESCRIPTION:Full Council Meeting\nView details: https://greatandlittleplumstead-pc.gov.uk/meetings/parish-council-meeting-4/
URL:https://greatandlittleplumstead-pc.gov.uk/meetings/parish-council-meeting-4/
END:VEVENT
END:VCALENDAR
