BEGIN:VCALENDAR
VERSION:2.0
PRODID:-//Great and Little Plumstead Parish Council//Meeting Calendar//EN
CALSCALE:GREGORIAN
METHOD:PUBLISH
BEGIN:VEVENT
UID:71794-20260914@greatandlittleplumstead-pc.gov.uk
DTSTAMP:20260419T134515Z
DTSTART;VALUE=DATE:20260914
DTEND;VALUE=DATE:20260915
SUMMARY:Parish Council Meeting &#8211\\; 14th September 2026
DESCRIPTION:Full Council Meeting\nView details: https://greatandlittleplumstead-pc.gov.uk/meetings/parish-council-meeting-3/
URL:https://greatandlittleplumstead-pc.gov.uk/meetings/parish-council-meeting-3/
END:VEVENT
END:VCALENDAR
