BEGIN:VCALENDAR
VERSION:2.0
PRODID:-//Great and Little Plumstead Parish Council//Meeting Calendar//EN
CALSCALE:GREGORIAN
METHOD:PUBLISH
BEGIN:VEVENT
UID:71793-20260713@greatandlittleplumstead-pc.gov.uk
DTSTAMP:20260419T134828Z
DTSTART;VALUE=DATE:20260713
DTEND;VALUE=DATE:20260714
SUMMARY:Parish Council Meeting &#8211\\; 13th July 2026
DESCRIPTION:Full Council Meeting\nView details: https://greatandlittleplumstead-pc.gov.uk/meetings/parish-council-meeting-2/
URL:https://greatandlittleplumstead-pc.gov.uk/meetings/parish-council-meeting-2/
END:VEVENT
END:VCALENDAR
