BEGIN:VCALENDAR
VERSION:2.0
PRODID:-//Great and Little Plumstead Parish Council//Meeting Calendar//EN
CALSCALE:GREGORIAN
METHOD:PUBLISH
BEGIN:VEVENT
UID:71792-20260608@greatandlittleplumstead-pc.gov.uk
DTSTAMP:20260419T133719Z
DTSTART;VALUE=DATE:20260608
DTEND;VALUE=DATE:20260609
SUMMARY:Parish Council Meeting &#8211\\; 8th June 2026
DESCRIPTION:Full Council Meeting\nView details: https://greatandlittleplumstead-pc.gov.uk/meetings/parish-council-meeting/
URL:https://greatandlittleplumstead-pc.gov.uk/meetings/parish-council-meeting/
END:VEVENT
END:VCALENDAR
