BEGIN:VCALENDAR
VERSION:2.0
PRODID:-//Great and Little Plumstead Parish Council//Meeting Calendar//EN
CALSCALE:GREGORIAN
METHOD:PUBLISH
BEGIN:VEVENT
UID:71778-20260202@greatandlittleplumstead-pc.gov.uk
DTSTAMP:20260419T140430Z
DTSTART;VALUE=DATE:20260202
DTEND;VALUE=DATE:20260203
SUMMARY:Council Meeting &#8211\\; 2nd February 2026
DESCRIPTION:Full Council Meeting\nView details: https://greatandlittleplumstead-pc.gov.uk/meetings/council-meeting-2nd-february-2026/
URL:https://greatandlittleplumstead-pc.gov.uk/meetings/council-meeting-2nd-february-2026/
END:VEVENT
END:VCALENDAR
