BEGIN:VCALENDAR
VERSION:2.0
PRODID:-//Great and Little Plumstead Parish Council//Meeting Calendar//EN
CALSCALE:GREGORIAN
METHOD:PUBLISH
BEGIN:VEVENT
UID:71775-20260112@greatandlittleplumstead-pc.gov.uk
DTSTAMP:20260419T140333Z
DTSTART;VALUE=DATE:20260112
DTEND;VALUE=DATE:20260113
SUMMARY:Council Meeting &#8211\\; 12 January 2026
DESCRIPTION:Full Council Meeting\nView details: https://greatandlittleplumstead-pc.gov.uk/meetings/meeting-name-here/
URL:https://greatandlittleplumstead-pc.gov.uk/meetings/meeting-name-here/
END:VEVENT
END:VCALENDAR
