BEGIN:VCALENDAR
VERSION:2.0
PRODID:-//Great and Little Plumstead Parish Council//Meeting Calendar//EN
CALSCALE:GREGORIAN
METHOD:PUBLISH
BEGIN:VEVENT
UID:70660-20250106@greatandlittleplumstead-pc.gov.uk
DTSTAMP:20260419T151942Z
DTSTART;VALUE=DATE:20250106
DTEND;VALUE=DATE:20250107
SUMMARY:Finance Meeting &#8211\\; 6 January 2025
DESCRIPTION:Finance Meeting\nView details: https://greatandlittleplumstead-pc.gov.uk/meetings/finance-meeting-6-january-2025/
URL:https://greatandlittleplumstead-pc.gov.uk/meetings/finance-meeting-6-january-2025/
END:VEVENT
END:VCALENDAR
