BEGIN:VCALENDAR
VERSION:2.0
PRODID:-//Great and Little Plumstead Parish Council//Meeting Calendar//EN
CALSCALE:GREGORIAN
METHOD:PUBLISH
BEGIN:VEVENT
UID:70643-20220101@greatandlittleplumstead-pc.gov.uk
DTSTAMP:20260419T155109Z
DTSTART;VALUE=DATE:20220101
DTEND;VALUE=DATE:20220102
SUMMARY:Council Meetings &#8211\\; 2022
DESCRIPTION:Full Council Meeting\nView details: https://greatandlittleplumstead-pc.gov.uk/meetings/council-meetings-2022/
URL:https://greatandlittleplumstead-pc.gov.uk/meetings/council-meetings-2022/
END:VEVENT
END:VCALENDAR
