BEGIN:VCALENDAR
VERSION:2.0
PRODID:-//Great and Little Plumstead Parish Council//Meeting Calendar//EN
CALSCALE:GREGORIAN
METHOD:PUBLISH
BEGIN:VEVENT
UID:70592-20220509@greatandlittleplumstead-pc.gov.uk
DTSTAMP:20260419T155053Z
DTSTART;VALUE=DATE:20220509
DTEND;VALUE=DATE:20220510
SUMMARY:Annual Council Meeting &#8211\\; 9 May 2022
DESCRIPTION:Annual Parish Meeting\nView details: https://greatandlittleplumstead-pc.gov.uk/meetings/annual-council-meeting-9-may-2022/
URL:https://greatandlittleplumstead-pc.gov.uk/meetings/annual-council-meeting-9-may-2022/
END:VEVENT
END:VCALENDAR
