BEGIN:VCALENDAR
VERSION:2.0
PRODID:-//Great and Little Plumstead Parish Council//Meeting Calendar//EN
CALSCALE:GREGORIAN
METHOD:PUBLISH
BEGIN:VEVENT
UID:70589-20230515@greatandlittleplumstead-pc.gov.uk
DTSTAMP:20260419T151948Z
DTSTART;VALUE=DATE:20230515
DTEND;VALUE=DATE:20230516
SUMMARY:Annual Council Meeting &#8211\\; 15 May 2023
DESCRIPTION:Annual Parish Meeting\nView details: https://greatandlittleplumstead-pc.gov.uk/meetings/annual-council-meeting-15-may-2023/
URL:https://greatandlittleplumstead-pc.gov.uk/meetings/annual-council-meeting-15-may-2023/
END:VEVENT
END:VCALENDAR
