BEGIN:VCALENDAR
VERSION:2.0
PRODID:-//Great and Little Plumstead Parish Council//Meeting Calendar//EN
CALSCALE:GREGORIAN
METHOD:PUBLISH
BEGIN:VEVENT
UID:70584-20240513@greatandlittleplumstead-pc.gov.uk
DTSTAMP:20260419T135110Z
DTSTART;VALUE=DATE:20240513
DTEND;VALUE=DATE:20240514
SUMMARY:Annual Parish Meeting &#8211\\; 13 May 2024
DESCRIPTION:Annual Parish Meeting\nView details: https://greatandlittleplumstead-pc.gov.uk/meetings/annual-parish-meeting-13-may-2024/
URL:https://greatandlittleplumstead-pc.gov.uk/meetings/annual-parish-meeting-13-may-2024/
END:VEVENT
END:VCALENDAR
