BEGIN:VCALENDAR
VERSION:2.0
PRODID:-//Great and Little Plumstead Parish Council//Meeting Calendar//EN
CALSCALE:GREGORIAN
METHOD:PUBLISH
BEGIN:VEVENT
UID:70578-20250113@greatandlittleplumstead-pc.gov.uk
DTSTAMP:20260419T184140Z
DTSTART;VALUE=DATE:20250113
DTEND;VALUE=DATE:20250114
SUMMARY:Council Meeting &#8211\\; 13 January 2025
DESCRIPTION:Full Council Meeting\nView details: https://greatandlittleplumstead-pc.gov.uk/meetings/council-meeting-13-january-2025/
URL:https://greatandlittleplumstead-pc.gov.uk/meetings/council-meeting-13-january-2025/
END:VEVENT
END:VCALENDAR
