BEGIN:VCALENDAR
VERSION:2.0
PRODID:-//Great and Little Plumstead Parish Council//Meeting Calendar//EN
CALSCALE:GREGORIAN
METHOD:PUBLISH
BEGIN:VEVENT
UID:70575-20250210@greatandlittleplumstead-pc.gov.uk
DTSTAMP:20260419T183302Z
DTSTART;VALUE=DATE:20250210
DTEND;VALUE=DATE:20250211
SUMMARY:Council Meeting &#8211\\; 10 February 2025
DESCRIPTION:Full Council Meeting\nView details: https://greatandlittleplumstead-pc.gov.uk/meetings/council-meeting-10-february-2025/
URL:https://greatandlittleplumstead-pc.gov.uk/meetings/council-meeting-10-february-2025/
END:VEVENT
END:VCALENDAR
