BEGIN:VCALENDAR
VERSION:2.0
PRODID:-//Great and Little Plumstead Parish Council//Meeting Calendar//EN
CALSCALE:GREGORIAN
METHOD:PUBLISH
BEGIN:VEVENT
UID:70569-20250414@greatandlittleplumstead-pc.gov.uk
DTSTAMP:20260419T184055Z
DTSTART;VALUE=DATE:20250414
DTEND;VALUE=DATE:20250415
SUMMARY:Council Meeting &#8211\\; 14 April 2025
DESCRIPTION:Full Council Meeting\nView details: https://greatandlittleplumstead-pc.gov.uk/meetings/council-meeting-14-april-2025/
URL:https://greatandlittleplumstead-pc.gov.uk/meetings/council-meeting-14-april-2025/
END:VEVENT
END:VCALENDAR
