BEGIN:VCALENDAR
VERSION:2.0
PRODID:-//Great and Little Plumstead Parish Council//Meeting Calendar//EN
CALSCALE:GREGORIAN
METHOD:PUBLISH
BEGIN:VEVENT
UID:70554-20250815@greatandlittleplumstead-pc.gov.uk
DTSTAMP:20260419T172015Z
DTSTART;VALUE=DATE:20250815
DTEND;VALUE=DATE:20250816
SUMMARY:Council Meeting &#8211\\; 15 August 2025
DESCRIPTION:Full Council Meeting\nView details: https://greatandlittleplumstead-pc.gov.uk/meetings/council-meeting-15-august-2025/
URL:https://greatandlittleplumstead-pc.gov.uk/meetings/council-meeting-15-august-2025/
END:VEVENT
END:VCALENDAR
