BEGIN:VCALENDAR
VERSION:2.0
PRODID:-//Great and Little Plumstead Parish Council//Meeting Calendar//EN
CALSCALE:GREGORIAN
METHOD:PUBLISH
BEGIN:VEVENT
UID:70548-20251013@greatandlittleplumstead-pc.gov.uk
DTSTAMP:20260419T155201Z
DTSTART;VALUE=DATE:20251013
DTEND;VALUE=DATE:20251014
SUMMARY:Council Meeting &#8211\\; 13 October 2025
DESCRIPTION:Full Council Meeting\nView details: https://greatandlittleplumstead-pc.gov.uk/meetings/council-meeting-13-october-2025/
URL:https://greatandlittleplumstead-pc.gov.uk/meetings/council-meeting-13-october-2025/
END:VEVENT
END:VCALENDAR
