BEGIN:VCALENDAR
VERSION:2.0
PRODID:-//Great and Little Plumstead Parish Council//Meeting Calendar//EN
CALSCALE:GREGORIAN
METHOD:PUBLISH
BEGIN:VEVENT
UID:70543-20251208@greatandlittleplumstead-pc.gov.uk
DTSTAMP:20260419T154528Z
DTSTART;VALUE=DATE:20251208
DTEND;VALUE=DATE:20251209
SUMMARY:Council Meeting &#8211\\; 8 December 2025
DESCRIPTION:Full Council Meeting\nView details: https://greatandlittleplumstead-pc.gov.uk/meetings/council-meeting-8-december-2025/
URL:https://greatandlittleplumstead-pc.gov.uk/meetings/council-meeting-8-december-2025/
END:VEVENT
END:VCALENDAR
